﻿BEGIN:VCALENDAR
VERSION:2.0
BEGIN:VEVENT
SUMMARY:Fencing Club Movie Night!
DESCRIPTION:Come join us in East 120 tonight at 6pm to watch the Count of Monte Cristo!
DTSTART:20260423T000000Z
DTEND:20260423T020000Z
LOCATION:East Building 120
END:VEVENT
END:VCALENDAR
