﻿BEGIN:VCALENDAR
VERSION:2.0
BEGIN:VEVENT
SUMMARY:ARMA Spring Local Meetup: Marquez Atrium, April 23rd 5:30 pm
DESCRIPTION:Join us for an evening of networking, sharing ideas, and celebrating student research! FREE FOOD!
DTSTART:20260423T233000Z
DTEND:20260424T020000Z
LOCATION:Marquez Atrium
END:VEVENT
END:VCALENDAR
