﻿BEGIN:VCALENDAR
VERSION:2.0
BEGIN:VEVENT
SUMMARY:Mines Symphony Orchestra Concert Sunday!
DESCRIPTION:Join us on Sunday at 2:00pm in the Ben H. Parker Student Center Ballrooms B and C! We'll be playing pops tunes from the movies and featuring our own student composers and soloists!
DTSTART:20180225T210000Z
DTEND:20180225T220000Z
LOCATION:Ben H. Parker Student Center Ballrooms B and C
END:VEVENT
END:VCALENDAR
